BEGIN:VCALENDAR
VERSION:2.0
PRODID:-//Redwood Falls Public Library - ECPv6.15.20//NONSGML v1.0//EN
CALSCALE:GREGORIAN
METHOD:PUBLISH
X-WR-CALNAME:Redwood Falls Public Library
X-ORIGINAL-URL:https://redwoodfallslibrary.org
X-WR-CALDESC:Events for Redwood Falls Public Library
REFRESH-INTERVAL;VALUE=DURATION:PT1H
X-Robots-Tag:noindex
X-PUBLISHED-TTL:PT1H
BEGIN:VTIMEZONE
TZID:America/Chicago
BEGIN:DAYLIGHT
TZOFFSETFROM:-0600
TZOFFSETTO:-0500
TZNAME:CDT
DTSTART:20250309T080000
END:DAYLIGHT
BEGIN:STANDARD
TZOFFSETFROM:-0500
TZOFFSETTO:-0600
TZNAME:CST
DTSTART:20251102T070000
END:STANDARD
BEGIN:DAYLIGHT
TZOFFSETFROM:-0600
TZOFFSETTO:-0500
TZNAME:CDT
DTSTART:20260308T080000
END:DAYLIGHT
BEGIN:STANDARD
TZOFFSETFROM:-0500
TZOFFSETTO:-0600
TZNAME:CST
DTSTART:20261101T070000
END:STANDARD
BEGIN:DAYLIGHT
TZOFFSETFROM:-0600
TZOFFSETTO:-0500
TZNAME:CDT
DTSTART:20270314T080000
END:DAYLIGHT
BEGIN:STANDARD
TZOFFSETFROM:-0500
TZOFFSETTO:-0600
TZNAME:CST
DTSTART:20271107T070000
END:STANDARD
END:VTIMEZONE
BEGIN:VEVENT
DTSTART;VALUE=DATE:20260404
DTEND;VALUE=DATE:20260405
DTSTAMP:20260424T052402
CREATED:20251230T164213Z
LAST-MODIFIED:20251230T164213Z
UID:10003186-1775260800-1775347199@redwoodfallslibrary.org
SUMMARY:Library Closed
DESCRIPTION:The library is closed today for the Easter weekend.
URL:https://redwoodfallslibrary.org/event/library-closed-28/
END:VEVENT
BEGIN:VEVENT
DTSTART;TZID=America/Chicago:20260407T100000
DTEND;TZID=America/Chicago:20260407T110000
DTSTAMP:20260424T052402
CREATED:20250220T221034Z
LAST-MODIFIED:20250521T175259Z
UID:10002475-1775556000-1775559600@redwoodfallslibrary.org
SUMMARY:Preschool Story Time
DESCRIPTION:Preschool Story Time \nEvery Tuesday at 10:00 a.m. \nChildren with an adult will enjoy lots of books\, games\, songs\, and crafts. For ages up to 5. \nNo registration required – Please join us when you can!
URL:https://redwoodfallslibrary.org/event/preschool-story-time-2/2026-04-07/
LOCATION:Redwood Falls Public Library\, 509 S Lincoln St\, Redwood Falls\, MN\, 56073\, United States
CATEGORIES:Children Programs
END:VEVENT
BEGIN:VEVENT
DTSTART;TZID=America/Chicago:20260407T153000
DTEND;TZID=America/Chicago:20260407T163000
DTSTAMP:20260424T052402
CREATED:20251230T162931Z
LAST-MODIFIED:20251230T162931Z
UID:10002936-1775575800-1775579400@redwoodfallslibrary.org
SUMMARY:Elementary School Adventure Club
DESCRIPTION:For kids in K-4\, we will have games\, crafts\, science\, Lego challenges and much more! After school snack provided. You can ride either bus 12 to the Library or bus 9.
URL:https://redwoodfallslibrary.org/event/elementary-school-adventure-club-17/2026-04-07/
END:VEVENT
BEGIN:VEVENT
DTSTART;TZID=America/Chicago:20260414T100000
DTEND;TZID=America/Chicago:20260414T110000
DTSTAMP:20260424T052402
CREATED:20250220T221034Z
LAST-MODIFIED:20250521T175259Z
UID:10002476-1776160800-1776164400@redwoodfallslibrary.org
SUMMARY:Preschool Story Time
DESCRIPTION:Preschool Story Time \nEvery Tuesday at 10:00 a.m. \nChildren with an adult will enjoy lots of books\, games\, songs\, and crafts. For ages up to 5. \nNo registration required – Please join us when you can!
URL:https://redwoodfallslibrary.org/event/preschool-story-time-2/2026-04-14/
LOCATION:Redwood Falls Public Library\, 509 S Lincoln St\, Redwood Falls\, MN\, 56073\, United States
CATEGORIES:Children Programs
END:VEVENT
BEGIN:VEVENT
DTSTART;TZID=America/Chicago:20260414T153000
DTEND;TZID=America/Chicago:20260414T163000
DTSTAMP:20260424T052402
CREATED:20251230T162931Z
LAST-MODIFIED:20251230T162931Z
UID:10002937-1776180600-1776184200@redwoodfallslibrary.org
SUMMARY:Elementary School Adventure Club
DESCRIPTION:For kids in K-4\, we will have games\, crafts\, science\, Lego challenges and much more! After school snack provided. You can ride either bus 12 to the Library or bus 9.
URL:https://redwoodfallslibrary.org/event/elementary-school-adventure-club-17/2026-04-14/
END:VEVENT
BEGIN:VEVENT
DTSTART;TZID=America/Chicago:20260421T100000
DTEND;TZID=America/Chicago:20260421T110000
DTSTAMP:20260424T052402
CREATED:20250220T221034Z
LAST-MODIFIED:20250521T175259Z
UID:10002477-1776765600-1776769200@redwoodfallslibrary.org
SUMMARY:Preschool Story Time
DESCRIPTION:Preschool Story Time \nEvery Tuesday at 10:00 a.m. \nChildren with an adult will enjoy lots of books\, games\, songs\, and crafts. For ages up to 5. \nNo registration required – Please join us when you can!
URL:https://redwoodfallslibrary.org/event/preschool-story-time-2/2026-04-21/
LOCATION:Redwood Falls Public Library\, 509 S Lincoln St\, Redwood Falls\, MN\, 56073\, United States
CATEGORIES:Children Programs
END:VEVENT
BEGIN:VEVENT
DTSTART;TZID=America/Chicago:20260421T153000
DTEND;TZID=America/Chicago:20260421T163000
DTSTAMP:20260424T052402
CREATED:20251230T162931Z
LAST-MODIFIED:20251230T162931Z
UID:10002938-1776785400-1776789000@redwoodfallslibrary.org
SUMMARY:Elementary School Adventure Club
DESCRIPTION:For kids in K-4\, we will have games\, crafts\, science\, Lego challenges and much more! After school snack provided. You can ride either bus 12 to the Library or bus 9.
URL:https://redwoodfallslibrary.org/event/elementary-school-adventure-club-17/2026-04-21/
END:VEVENT
BEGIN:VEVENT
DTSTART;TZID=America/Chicago:20260428T100000
DTEND;TZID=America/Chicago:20260428T110000
DTSTAMP:20260424T052402
CREATED:20250220T221034Z
LAST-MODIFIED:20250521T175259Z
UID:10002478-1777370400-1777374000@redwoodfallslibrary.org
SUMMARY:Preschool Story Time
DESCRIPTION:Preschool Story Time \nEvery Tuesday at 10:00 a.m. \nChildren with an adult will enjoy lots of books\, games\, songs\, and crafts. For ages up to 5. \nNo registration required – Please join us when you can!
URL:https://redwoodfallslibrary.org/event/preschool-story-time-2/2026-04-28/
LOCATION:Redwood Falls Public Library\, 509 S Lincoln St\, Redwood Falls\, MN\, 56073\, United States
CATEGORIES:Children Programs
END:VEVENT
BEGIN:VEVENT
DTSTART;TZID=America/Chicago:20260428T123000
DTEND;TZID=America/Chicago:20260428T133000
DTSTAMP:20260424T052402
CREATED:20251008T215542Z
LAST-MODIFIED:20251008T215542Z
UID:10002846-1777379400-1777383000@redwoodfallslibrary.org
SUMMARY:Noon Book Club
DESCRIPTION:Join us at 12:30 at the Redwood Falls Public Library to discuss this months read “100 Year Old Man who Climbed out the Window and Disappeared” By Jonas Jonasson!   If you are interested in signing up for the book club\, please contact or stop by the library.
URL:https://redwoodfallslibrary.org/event/noon-book-club-49/
LOCATION:Redwood Falls Public Library\, 509 S Lincoln St\, Redwood Falls\, MN\, 56073\, United States
ATTACH;FMTTYPE=image/jpeg:https://redwoodfallslibrary.org/wp-content/uploads/2025/10/100-years.jpg
END:VEVENT
BEGIN:VEVENT
DTSTART;TZID=America/Chicago:20260428T153000
DTEND;TZID=America/Chicago:20260428T163000
DTSTAMP:20260424T052402
CREATED:20251230T162931Z
LAST-MODIFIED:20251230T162931Z
UID:10002939-1777390200-1777393800@redwoodfallslibrary.org
SUMMARY:Elementary School Adventure Club
DESCRIPTION:For kids in K-4\, we will have games\, crafts\, science\, Lego challenges and much more! After school snack provided. You can ride either bus 12 to the Library or bus 9.
URL:https://redwoodfallslibrary.org/event/elementary-school-adventure-club-17/2026-04-28/
END:VEVENT
BEGIN:VEVENT
DTSTART;TZID=America/Chicago:20260505T100000
DTEND;TZID=America/Chicago:20260505T110000
DTSTAMP:20260424T052402
CREATED:20250220T221034Z
LAST-MODIFIED:20250521T175259Z
UID:10002479-1777975200-1777978800@redwoodfallslibrary.org
SUMMARY:Preschool Story Time
DESCRIPTION:Preschool Story Time \nEvery Tuesday at 10:00 a.m. \nChildren with an adult will enjoy lots of books\, games\, songs\, and crafts. For ages up to 5. \nNo registration required – Please join us when you can!
URL:https://redwoodfallslibrary.org/event/preschool-story-time-2/2026-05-05/
LOCATION:Redwood Falls Public Library\, 509 S Lincoln St\, Redwood Falls\, MN\, 56073\, United States
CATEGORIES:Children Programs
END:VEVENT
BEGIN:VEVENT
DTSTART;TZID=America/Chicago:20260505T153000
DTEND;TZID=America/Chicago:20260505T163000
DTSTAMP:20260424T052402
CREATED:20251230T162931Z
LAST-MODIFIED:20251230T162931Z
UID:10002940-1777995000-1777998600@redwoodfallslibrary.org
SUMMARY:Elementary School Adventure Club
DESCRIPTION:For kids in K-4\, we will have games\, crafts\, science\, Lego challenges and much more! After school snack provided. You can ride either bus 12 to the Library or bus 9.
URL:https://redwoodfallslibrary.org/event/elementary-school-adventure-club-17/2026-05-05/
END:VEVENT
BEGIN:VEVENT
DTSTART;TZID=America/Chicago:20260509T090000
DTEND;TZID=America/Chicago:20260509T130000
DTSTAMP:20260424T052402
CREATED:20260316T185112Z
LAST-MODIFIED:20260316T185112Z
UID:10003204-1778317200-1778331600@redwoodfallslibrary.org
SUMMARY:Last Saturday Open
DESCRIPTION:This will be our last Saturday we are open before we close on Saturdays from Memorial Day weekend to Labor Day weekend.  We are open today from 9:00am- 1:00pm!
URL:https://redwoodfallslibrary.org/event/last-saturday-open/
END:VEVENT
BEGIN:VEVENT
DTSTART;TZID=America/Chicago:20260512T100000
DTEND;TZID=America/Chicago:20260512T110000
DTSTAMP:20260424T052402
CREATED:20250220T221034Z
LAST-MODIFIED:20250521T175259Z
UID:10002480-1778580000-1778583600@redwoodfallslibrary.org
SUMMARY:Preschool Story Time
DESCRIPTION:Preschool Story Time \nEvery Tuesday at 10:00 a.m. \nChildren with an adult will enjoy lots of books\, games\, songs\, and crafts. For ages up to 5. \nNo registration required – Please join us when you can!
URL:https://redwoodfallslibrary.org/event/preschool-story-time-2/2026-05-12/
LOCATION:Redwood Falls Public Library\, 509 S Lincoln St\, Redwood Falls\, MN\, 56073\, United States
CATEGORIES:Children Programs
END:VEVENT
BEGIN:VEVENT
DTSTART;TZID=America/Chicago:20260512T153000
DTEND;TZID=America/Chicago:20260512T163000
DTSTAMP:20260424T052402
CREATED:20251230T162931Z
LAST-MODIFIED:20251230T162931Z
UID:10002941-1778599800-1778603400@redwoodfallslibrary.org
SUMMARY:Elementary School Adventure Club
DESCRIPTION:For kids in K-4\, we will have games\, crafts\, science\, Lego challenges and much more! After school snack provided. You can ride either bus 12 to the Library or bus 9.
URL:https://redwoodfallslibrary.org/event/elementary-school-adventure-club-17/2026-05-12/
END:VEVENT
BEGIN:VEVENT
DTSTART;TZID=America/Chicago:20260519T100000
DTEND;TZID=America/Chicago:20260519T110000
DTSTAMP:20260424T052402
CREATED:20250220T221034Z
LAST-MODIFIED:20250521T175259Z
UID:10002481-1779184800-1779188400@redwoodfallslibrary.org
SUMMARY:Preschool Story Time
DESCRIPTION:Preschool Story Time \nEvery Tuesday at 10:00 a.m. \nChildren with an adult will enjoy lots of books\, games\, songs\, and crafts. For ages up to 5. \nNo registration required – Please join us when you can!
URL:https://redwoodfallslibrary.org/event/preschool-story-time-2/2026-05-19/
LOCATION:Redwood Falls Public Library\, 509 S Lincoln St\, Redwood Falls\, MN\, 56073\, United States
CATEGORIES:Children Programs
END:VEVENT
BEGIN:VEVENT
DTSTART;TZID=America/Chicago:20260519T153000
DTEND;TZID=America/Chicago:20260519T163000
DTSTAMP:20260424T052402
CREATED:20251230T162931Z
LAST-MODIFIED:20251230T162931Z
UID:10002942-1779204600-1779208200@redwoodfallslibrary.org
SUMMARY:Elementary School Adventure Club
DESCRIPTION:For kids in K-4\, we will have games\, crafts\, science\, Lego challenges and much more! After school snack provided. You can ride either bus 12 to the Library or bus 9.
URL:https://redwoodfallslibrary.org/event/elementary-school-adventure-club-17/2026-05-19/
END:VEVENT
BEGIN:VEVENT
DTSTART;VALUE=DATE:20260525
DTEND;VALUE=DATE:20260526
DTSTAMP:20260424T052402
CREATED:20251230T164324Z
LAST-MODIFIED:20251230T164324Z
UID:10003187-1779667200-1779753599@redwoodfallslibrary.org
SUMMARY:Library Closed
DESCRIPTION:The library is closed in observance of Memorial Day.
URL:https://redwoodfallslibrary.org/event/library-closed-29/
END:VEVENT
BEGIN:VEVENT
DTSTART;TZID=America/Chicago:20260526T100000
DTEND;TZID=America/Chicago:20260526T110000
DTSTAMP:20260424T052402
CREATED:20250220T221034Z
LAST-MODIFIED:20250521T175259Z
UID:10002482-1779789600-1779793200@redwoodfallslibrary.org
SUMMARY:Preschool Story Time
DESCRIPTION:Preschool Story Time \nEvery Tuesday at 10:00 a.m. \nChildren with an adult will enjoy lots of books\, games\, songs\, and crafts. For ages up to 5. \nNo registration required – Please join us when you can!
URL:https://redwoodfallslibrary.org/event/preschool-story-time-2/2026-05-26/
LOCATION:Redwood Falls Public Library\, 509 S Lincoln St\, Redwood Falls\, MN\, 56073\, United States
CATEGORIES:Children Programs
END:VEVENT
BEGIN:VEVENT
DTSTART;TZID=America/Chicago:20260526T123000
DTEND;TZID=America/Chicago:20260526T133000
DTSTAMP:20260424T052402
CREATED:20251008T215726Z
LAST-MODIFIED:20251008T215726Z
UID:10002847-1779798600-1779802200@redwoodfallslibrary.org
SUMMARY:Noon Book Club
DESCRIPTION:Join us at 12:30 at the Redwood Falls Public Library to discuss this months read “The Hitchcock Hotel” By Stephanie Wrobel!   If you are interested in signing up for the book club\, please contact or stop by the library.
URL:https://redwoodfallslibrary.org/event/noon-book-club-50/
LOCATION:Redwood Falls Public Library\, 509 S Lincoln St\, Redwood Falls\, MN\, 56073\, United States
CATEGORIES:Adult Programs
ATTACH;FMTTYPE=image/jpeg:https://redwoodfallslibrary.org/wp-content/uploads/2025/10/hitchcock-hotel.jpg
END:VEVENT
BEGIN:VEVENT
DTSTART;TZID=America/Chicago:20260526T153000
DTEND;TZID=America/Chicago:20260526T163000
DTSTAMP:20260424T052402
CREATED:20251230T162931Z
LAST-MODIFIED:20251230T162931Z
UID:10002943-1779809400-1779813000@redwoodfallslibrary.org
SUMMARY:Elementary School Adventure Club
DESCRIPTION:For kids in K-4\, we will have games\, crafts\, science\, Lego challenges and much more! After school snack provided. You can ride either bus 12 to the Library or bus 9.
URL:https://redwoodfallslibrary.org/event/elementary-school-adventure-club-17/2026-05-26/
END:VEVENT
BEGIN:VEVENT
DTSTART;TZID=America/Chicago:20260602T100000
DTEND;TZID=America/Chicago:20260602T110000
DTSTAMP:20260424T052402
CREATED:20250220T221034Z
LAST-MODIFIED:20250521T175259Z
UID:10002483-1780394400-1780398000@redwoodfallslibrary.org
SUMMARY:Preschool Story Time
DESCRIPTION:Preschool Story Time \nEvery Tuesday at 10:00 a.m. \nChildren with an adult will enjoy lots of books\, games\, songs\, and crafts. For ages up to 5. \nNo registration required – Please join us when you can!
URL:https://redwoodfallslibrary.org/event/preschool-story-time-2/2026-06-02/
LOCATION:Redwood Falls Public Library\, 509 S Lincoln St\, Redwood Falls\, MN\, 56073\, United States
CATEGORIES:Children Programs
END:VEVENT
BEGIN:VEVENT
DTSTART;TZID=America/Chicago:20260602T153000
DTEND;TZID=America/Chicago:20260602T163000
DTSTAMP:20260424T052402
CREATED:20251230T162931Z
LAST-MODIFIED:20251230T162931Z
UID:10002944-1780414200-1780417800@redwoodfallslibrary.org
SUMMARY:Elementary School Adventure Club
DESCRIPTION:For kids in K-4\, we will have games\, crafts\, science\, Lego challenges and much more! After school snack provided. You can ride either bus 12 to the Library or bus 9.
URL:https://redwoodfallslibrary.org/event/elementary-school-adventure-club-17/2026-06-02/
END:VEVENT
BEGIN:VEVENT
DTSTART;TZID=America/Chicago:20260609T100000
DTEND;TZID=America/Chicago:20260609T110000
DTSTAMP:20260424T052402
CREATED:20250220T221034Z
LAST-MODIFIED:20250521T175259Z
UID:10002484-1780999200-1781002800@redwoodfallslibrary.org
SUMMARY:Preschool Story Time
DESCRIPTION:Preschool Story Time \nEvery Tuesday at 10:00 a.m. \nChildren with an adult will enjoy lots of books\, games\, songs\, and crafts. For ages up to 5. \nNo registration required – Please join us when you can!
URL:https://redwoodfallslibrary.org/event/preschool-story-time-2/2026-06-09/
LOCATION:Redwood Falls Public Library\, 509 S Lincoln St\, Redwood Falls\, MN\, 56073\, United States
CATEGORIES:Children Programs
END:VEVENT
BEGIN:VEVENT
DTSTART;TZID=America/Chicago:20260609T153000
DTEND;TZID=America/Chicago:20260609T163000
DTSTAMP:20260424T052402
CREATED:20251230T162931Z
LAST-MODIFIED:20251230T162931Z
UID:10002945-1781019000-1781022600@redwoodfallslibrary.org
SUMMARY:Elementary School Adventure Club
DESCRIPTION:For kids in K-4\, we will have games\, crafts\, science\, Lego challenges and much more! After school snack provided. You can ride either bus 12 to the Library or bus 9.
URL:https://redwoodfallslibrary.org/event/elementary-school-adventure-club-17/2026-06-09/
END:VEVENT
BEGIN:VEVENT
DTSTART;TZID=America/Chicago:20260616T100000
DTEND;TZID=America/Chicago:20260616T110000
DTSTAMP:20260424T052402
CREATED:20250220T221034Z
LAST-MODIFIED:20250521T175259Z
UID:10002485-1781604000-1781607600@redwoodfallslibrary.org
SUMMARY:Preschool Story Time
DESCRIPTION:Preschool Story Time \nEvery Tuesday at 10:00 a.m. \nChildren with an adult will enjoy lots of books\, games\, songs\, and crafts. For ages up to 5. \nNo registration required – Please join us when you can!
URL:https://redwoodfallslibrary.org/event/preschool-story-time-2/2026-06-16/
LOCATION:Redwood Falls Public Library\, 509 S Lincoln St\, Redwood Falls\, MN\, 56073\, United States
CATEGORIES:Children Programs
END:VEVENT
BEGIN:VEVENT
DTSTART;TZID=America/Chicago:20260616T153000
DTEND;TZID=America/Chicago:20260616T163000
DTSTAMP:20260424T052402
CREATED:20251230T162931Z
LAST-MODIFIED:20251230T162931Z
UID:10002946-1781623800-1781627400@redwoodfallslibrary.org
SUMMARY:Elementary School Adventure Club
DESCRIPTION:For kids in K-4\, we will have games\, crafts\, science\, Lego challenges and much more! After school snack provided. You can ride either bus 12 to the Library or bus 9.
URL:https://redwoodfallslibrary.org/event/elementary-school-adventure-club-17/2026-06-16/
END:VEVENT
BEGIN:VEVENT
DTSTART;VALUE=DATE:20260619
DTEND;VALUE=DATE:20260620
DTSTAMP:20260424T052402
CREATED:20251230T164636Z
LAST-MODIFIED:20251230T164636Z
UID:10003189-1781827200-1781913599@redwoodfallslibrary.org
SUMMARY:Library Closed
DESCRIPTION:The Library is closed today in observance of Juneteenth.
URL:https://redwoodfallslibrary.org/event/library-closed-30/
END:VEVENT
BEGIN:VEVENT
DTSTART;TZID=America/Chicago:20260623T100000
DTEND;TZID=America/Chicago:20260623T110000
DTSTAMP:20260424T052402
CREATED:20250220T221034Z
LAST-MODIFIED:20250521T175259Z
UID:10002486-1782208800-1782212400@redwoodfallslibrary.org
SUMMARY:Preschool Story Time
DESCRIPTION:Preschool Story Time \nEvery Tuesday at 10:00 a.m. \nChildren with an adult will enjoy lots of books\, games\, songs\, and crafts. For ages up to 5. \nNo registration required – Please join us when you can!
URL:https://redwoodfallslibrary.org/event/preschool-story-time-2/2026-06-23/
LOCATION:Redwood Falls Public Library\, 509 S Lincoln St\, Redwood Falls\, MN\, 56073\, United States
CATEGORIES:Children Programs
END:VEVENT
BEGIN:VEVENT
DTSTART;TZID=America/Chicago:20260623T123000
DTEND;TZID=America/Chicago:20260623T133000
DTSTAMP:20260424T052402
CREATED:20251008T215847Z
LAST-MODIFIED:20251008T215847Z
UID:10002848-1782217800-1782221400@redwoodfallslibrary.org
SUMMARY:Noon Book Club
DESCRIPTION:Join us at 12:30 at the Redwood Falls Public Library to discuss this months read “The One and Only Ivan” By Katherine Applegate!   If you are interested in signing up for the book club\, please contact or stop by the library.
URL:https://redwoodfallslibrary.org/event/noon-book-club-51/
CATEGORIES:Adult Programs
ATTACH;FMTTYPE=image/jpeg:https://redwoodfallslibrary.org/wp-content/uploads/2025/10/ivan.jpg
END:VEVENT
END:VCALENDAR