BEGIN:VCALENDAR
VERSION:2.0
PRODID:-//Redwood Falls Public Library - ECPv6.15.20//NONSGML v1.0//EN
CALSCALE:GREGORIAN
METHOD:PUBLISH
X-ORIGINAL-URL:https://redwoodfallslibrary.org
X-WR-CALDESC:Events for Redwood Falls Public Library
REFRESH-INTERVAL;VALUE=DURATION:PT1H
X-Robots-Tag:noindex
X-PUBLISHED-TTL:PT1H
BEGIN:VTIMEZONE
TZID:America/Chicago
BEGIN:DAYLIGHT
TZOFFSETFROM:-0600
TZOFFSETTO:-0500
TZNAME:CDT
DTSTART:20240310T080000
END:DAYLIGHT
BEGIN:STANDARD
TZOFFSETFROM:-0500
TZOFFSETTO:-0600
TZNAME:CST
DTSTART:20241103T070000
END:STANDARD
BEGIN:DAYLIGHT
TZOFFSETFROM:-0600
TZOFFSETTO:-0500
TZNAME:CDT
DTSTART:20250309T080000
END:DAYLIGHT
BEGIN:STANDARD
TZOFFSETFROM:-0500
TZOFFSETTO:-0600
TZNAME:CST
DTSTART:20251102T070000
END:STANDARD
BEGIN:DAYLIGHT
TZOFFSETFROM:-0600
TZOFFSETTO:-0500
TZNAME:CDT
DTSTART:20260308T080000
END:DAYLIGHT
BEGIN:STANDARD
TZOFFSETFROM:-0500
TZOFFSETTO:-0600
TZNAME:CST
DTSTART:20261101T070000
END:STANDARD
END:VTIMEZONE
BEGIN:VEVENT
DTSTART;VALUE=DATE:20250630
DTEND;VALUE=DATE:20250701
DTSTAMP:20260420T041704
CREATED:20250618T221229Z
LAST-MODIFIED:20250618T231215Z
UID:10002745-1751241600-1751327999@redwoodfallslibrary.org
SUMMARY:Free Snack from 3-4
DESCRIPTION:The Library is excited to be part of the Summer Food Program again this year! Stop by the Library from 3-4 to get a free snack! \nPlease note that there is no snack on weekends or June 19\, July 3\, or July 4.
URL:https://redwoodfallslibrary.org/event/free-snack-from-3-4/2025-06-30/
LOCATION:Redwood Falls Public Library\, 509 S Lincoln St\, Redwood Falls\, MN\, 56073\, United States
CATEGORIES:Adult Programs,Children Programs,Teen Programs
ATTACH;FMTTYPE=image/jpeg:https://redwoodfallslibrary.org/wp-content/uploads/2025/06/508441321_1395505968981650_1104386062219100024_n.jpg
END:VEVENT
BEGIN:VEVENT
DTSTART;TZID=America/Chicago:20250630T120000
DTEND;TZID=America/Chicago:20250630T130000
DTSTAMP:20260420T041704
CREATED:20250623T203337Z
LAST-MODIFIED:20250623T203337Z
UID:10002785-1751284800-1751288400@redwoodfallslibrary.org
SUMMARY:You're Invited - Exciting Expansion Update
DESCRIPTION:Please join us at the Redwood Falls Public Library on Monday\, June 30th from 12:00 – 1:00 PM for an exciting update about the expansion! We will be giving an update\, showing off some of the plans\, and answering any questions the public may have\, we hope to see you there!
URL:https://redwoodfallslibrary.org/event/youre-invited-exciting-expansion-update/
LOCATION:Redwood Falls Public Library\, 509 S Lincoln St\, Redwood Falls\, MN\, 56073\, United States
CATEGORIES:Adult Programs,Children Programs,Teen Programs
ATTACH;FMTTYPE=image/jpeg:https://redwoodfallslibrary.org/wp-content/uploads/2025/06/expansion-update-1-4.jpg
END:VEVENT
END:VCALENDAR