BEGIN:VCALENDAR
VERSION:2.0
PRODID:-//Redwood Falls Public Library - ECPv6.15.20//NONSGML v1.0//EN
CALSCALE:GREGORIAN
METHOD:PUBLISH
X-WR-CALNAME:Redwood Falls Public Library
X-ORIGINAL-URL:https://redwoodfallslibrary.org
X-WR-CALDESC:Events for Redwood Falls Public Library
REFRESH-INTERVAL;VALUE=DURATION:PT1H
X-Robots-Tag:noindex
X-PUBLISHED-TTL:PT1H
BEGIN:VTIMEZONE
TZID:America/Chicago
BEGIN:DAYLIGHT
TZOFFSETFROM:-0600
TZOFFSETTO:-0500
TZNAME:CDT
DTSTART:20240310T080000
END:DAYLIGHT
BEGIN:STANDARD
TZOFFSETFROM:-0500
TZOFFSETTO:-0600
TZNAME:CST
DTSTART:20241103T070000
END:STANDARD
BEGIN:DAYLIGHT
TZOFFSETFROM:-0600
TZOFFSETTO:-0500
TZNAME:CDT
DTSTART:20250309T080000
END:DAYLIGHT
BEGIN:STANDARD
TZOFFSETFROM:-0500
TZOFFSETTO:-0600
TZNAME:CST
DTSTART:20251102T070000
END:STANDARD
BEGIN:DAYLIGHT
TZOFFSETFROM:-0600
TZOFFSETTO:-0500
TZNAME:CDT
DTSTART:20260308T080000
END:DAYLIGHT
BEGIN:STANDARD
TZOFFSETFROM:-0500
TZOFFSETTO:-0600
TZNAME:CST
DTSTART:20261101T070000
END:STANDARD
END:VTIMEZONE
BEGIN:VEVENT
DTSTART;TZID=America/Chicago:20250527T160000
DTEND;TZID=America/Chicago:20250527T173000
DTSTAMP:20260423T052413
CREATED:20250507T215902Z
LAST-MODIFIED:20250507T215902Z
UID:10002406-1748361600-1748367000@redwoodfallslibrary.org
SUMMARY:Children's Book Sale
DESCRIPTION:The Redwood Falls Friends of the Library will be hosting a book sale during our Summer Reading Kick Off on May 27th! Stop by the Book Sale from 4-5:30 to get some new books for the summer! \nIf you have any gently used children’s books to donate we will accept them until the day of the book sale!
URL:https://redwoodfallslibrary.org/event/childrens-book-sale/
LOCATION:Redwood Falls Public Library\, 509 S Lincoln St\, Redwood Falls\, MN\, 56073\, United States
CATEGORIES:Adult Programs,Children Programs,Teen Programs
ATTACH;FMTTYPE=image/jpeg:https://redwoodfallslibrary.org/wp-content/uploads/2025/05/Kids-Book-Sale-2-1.jpg
END:VEVENT
BEGIN:VEVENT
DTSTART;TZID=America/Chicago:20250527T170000
DTEND;TZID=America/Chicago:20250527T200000
DTSTAMP:20260423T052413
CREATED:20250514T144623Z
LAST-MODIFIED:20250514T144623Z
UID:10002407-1748365200-1748376000@redwoodfallslibrary.org
SUMMARY:Summer Reading Kick-off Party!
DESCRIPTION:The Summer is already planned with exciting things! Join us at the Summer Reading Kick Off Party to “kick off” a great summer! The Kick off will be May 27th from 5-8 PM. We will have ice cream\, a children’s book sale\, summer reading sign up\, and the Zoo man will be here with all his reptile friends! \n  \nJoin us at the Redwood Falls Public Library May 27th from 5-8 PM
URL:https://redwoodfallslibrary.org/event/summer-reading-kick-off-party-2/
LOCATION:Redwood Falls Public Library\, 509 S Lincoln St\, Redwood Falls\, MN\, 56073\, United States
CATEGORIES:Adult Programs,Children Programs,Teen Programs
ATTACH;FMTTYPE=image/jpeg:https://redwoodfallslibrary.org/wp-content/uploads/2025/05/Kick-off-1.jpg
END:VEVENT
BEGIN:VEVENT
DTSTART;TZID=America/Chicago:20250527T173000
DTEND;TZID=America/Chicago:20250527T180000
DTSTAMP:20260423T052413
CREATED:20250514T154404Z
LAST-MODIFIED:20250514T154404Z
UID:10002409-1748367000-1748368800@redwoodfallslibrary.org
SUMMARY:The Zoo Man
DESCRIPTION:Join us on May 27th at 5:30 at the Redwood Falls Public Library for the Zoo Man! The Zoo man has been educating and entertaining the young\, and young at heart for 30 years. He keeps a secret on what animals he will bring to each program. While you wait for the Zoo Man enjoy some ice cream\, browse the book sale\, or sign up for the summer reading program!
URL:https://redwoodfallslibrary.org/event/the-zoo-man/
LOCATION:Redwood Falls Public Library\, 509 S Lincoln St\, Redwood Falls\, MN\, 56073\, United States
CATEGORIES:Adult Programs,Children Programs,Teen Programs
ATTACH;FMTTYPE=image/jpeg:https://redwoodfallslibrary.org/wp-content/uploads/2025/05/Zoo-Man-2-3.jpg
END:VEVENT
END:VCALENDAR