BEGIN:VCALENDAR
VERSION:2.0
PRODID:-//Redwood Falls Public Library - ECPv6.15.20//NONSGML v1.0//EN
CALSCALE:GREGORIAN
METHOD:PUBLISH
X-ORIGINAL-URL:https://redwoodfallslibrary.org
X-WR-CALDESC:Events for Redwood Falls Public Library
REFRESH-INTERVAL;VALUE=DURATION:PT1H
X-Robots-Tag:noindex
X-PUBLISHED-TTL:PT1H
BEGIN:VTIMEZONE
TZID:America/Chicago
BEGIN:DAYLIGHT
TZOFFSETFROM:-0600
TZOFFSETTO:-0500
TZNAME:CDT
DTSTART:20230312T080000
END:DAYLIGHT
BEGIN:STANDARD
TZOFFSETFROM:-0500
TZOFFSETTO:-0600
TZNAME:CST
DTSTART:20231105T070000
END:STANDARD
BEGIN:DAYLIGHT
TZOFFSETFROM:-0600
TZOFFSETTO:-0500
TZNAME:CDT
DTSTART:20240310T080000
END:DAYLIGHT
BEGIN:STANDARD
TZOFFSETFROM:-0500
TZOFFSETTO:-0600
TZNAME:CST
DTSTART:20241103T070000
END:STANDARD
BEGIN:DAYLIGHT
TZOFFSETFROM:-0600
TZOFFSETTO:-0500
TZNAME:CDT
DTSTART:20250309T080000
END:DAYLIGHT
BEGIN:STANDARD
TZOFFSETFROM:-0500
TZOFFSETTO:-0600
TZNAME:CST
DTSTART:20251102T070000
END:STANDARD
END:VTIMEZONE
BEGIN:VEVENT
DTSTART;TZID=America/Chicago:20241113T160000
DTEND;TZID=America/Chicago:20241113T180000
DTSTAMP:20260420T052653
CREATED:20241107T161429Z
LAST-MODIFIED:20241107T161429Z
UID:10002238-1731513600-1731520800@redwoodfallslibrary.org
SUMMARY:RVHS Fall Art Show
DESCRIPTION:RVHS Art Students will have their art displayed at the Redwood Falls Public Library during the month of November. View the art in the meeting room anytime during the month of November or come to their Reception November 13th from 4:00 – 6:00 PM at the Redwood Falls Public Library!
URL:https://redwoodfallslibrary.org/event/rvhs-fall-art-show/
LOCATION:Redwood Falls Public Library\, 509 S Lincoln St\, Redwood Falls\, MN\, 56073\, United States
CATEGORIES:Adult Programs,Children Programs,Teen Programs
ATTACH;FMTTYPE=image/jpeg:https://redwoodfallslibrary.org/wp-content/uploads/2024/11/465714000_10226924850294942_7778909592881167512_n.jpg
END:VEVENT
END:VCALENDAR